BEGIN:VCALENDAR
VERSION:2.0
PRODID:-//Tukios.com/
BEGIN:VEVENT
UID:55a7d767-acac-405f-93e3-e2cdd6aceec1@www.afcrowfh.com
DTSTAMP:20260424T013729Z
DTSTART:20260426T220000Z
DTEND:20260427T010000Z
SUMMARY:Visitation
DESCRIPTION:
URL:https://www.afcrowfh.com/obituaries/james-christopher-smith
LOCATION: 201 East Washington St  Glasgow KY 42141
GEO:36.9946351;-85.9109355
END:VEVENT
END:VCALENDAR