BEGIN:VCALENDAR
VERSION:2.0
PRODID:-//Tukios.com/
BEGIN:VEVENT
UID:701a3538-ff4c-4aa0-90a5-71f720553694@www.afcrowfh.com
DTSTAMP:20260424T013540Z
DTSTART:20260427T160000Z
DTEND:20260427T170000Z
SUMMARY:Funeral Service
DESCRIPTION:
URL:https://www.afcrowfh.com/obituaries/james-christopher-smith
LOCATION: 201 East Washington St  Glasgow KY 42141
GEO:36.9946351;-85.9109355
END:VEVENT
END:VCALENDAR