BEGIN:VCALENDAR
VERSION:2.0
PRODID:-//Tukios.com/
BEGIN:VEVENT
UID:3131349e-21e0-47a8-9690-8f8e8fe663b9@www.afcrowfh.com
DTSTAMP:20260424T013729Z
DTSTART:20260427T170000Z
DTEND:20260427T180000Z
SUMMARY:Burial
DESCRIPTION:
URL:https://www.afcrowfh.com/obituaries/james-christopher-smith
LOCATION: Lick Branch Cemetery  Glasgow KY 42141
GEO:36.9637469;-85.821192
END:VEVENT
END:VCALENDAR